BEGIN:VCALENDAR
VERSION:2.0
PRODID:-//Harvard University Band - ECPv6.15.15//NONSGML v1.0//EN
CALSCALE:GREGORIAN
METHOD:PUBLISH
X-WR-CALNAME:Harvard University Band
X-ORIGINAL-URL:https://harvardband.org
X-WR-CALDESC:Events for Harvard University Band
REFRESH-INTERVAL;VALUE=DURATION:PT1H
X-Robots-Tag:noindex
X-PUBLISHED-TTL:PT1H
BEGIN:VTIMEZONE
TZID:America/New_York
BEGIN:DAYLIGHT
TZOFFSETFROM:-0500
TZOFFSETTO:-0400
TZNAME:EDT
DTSTART:20250309T070000
END:DAYLIGHT
BEGIN:STANDARD
TZOFFSETFROM:-0400
TZOFFSETTO:-0500
TZNAME:EST
DTSTART:20251102T060000
END:STANDARD
BEGIN:DAYLIGHT
TZOFFSETFROM:-0500
TZOFFSETTO:-0400
TZNAME:EDT
DTSTART:20260308T070000
END:DAYLIGHT
BEGIN:STANDARD
TZOFFSETFROM:-0400
TZOFFSETTO:-0500
TZNAME:EST
DTSTART:20261101T060000
END:STANDARD
BEGIN:DAYLIGHT
TZOFFSETFROM:-0500
TZOFFSETTO:-0400
TZNAME:EDT
DTSTART:20270314T070000
END:DAYLIGHT
BEGIN:STANDARD
TZOFFSETFROM:-0400
TZOFFSETTO:-0500
TZNAME:EST
DTSTART:20271107T060000
END:STANDARD
END:VTIMEZONE
BEGIN:VEVENT
DTSTART;TZID=America/New_York:20260421T120000
DTEND;TZID=America/New_York:20260421T140000
DTSTAMP:20260421T001215
CREATED:20260420T212020Z
LAST-MODIFIED:20260420T212020Z
UID:10000186-1776772800-1776780000@harvardband.org
SUMMARY:Sasha's Birthday Bash!
DESCRIPTION:Hey Band! Who’s the best doggo? That’s right: Sasha! And it happens to be her birthday on Tuesday! \nJoin us at noon in the Band Room to head down and play some tunes for Harvard’s best friend! Your only uniform requirement is your HUB Polo. \nPlease RSVP below with the instrument you intend to play.
URL:https://harvardband.org/events/sashas-birthday-bash
LOCATION:Band Room\, 74 Mt. Auburn St\, Cambridge\, MA\, 02138\, United States
CATEGORIES:Band,CFA
ATTACH;FMTTYPE=image/png:https://harvardband.org/wp-content/uploads/2026/04/image.png
END:VEVENT
BEGIN:VEVENT
DTSTART;TZID=America/New_York:20260422T171500
DTEND;TZID=America/New_York:20260422T200000
DTSTAMP:20260421T001215
CREATED:20260420T204508Z
LAST-MODIFIED:20260420T204639Z
UID:10000182-1776878100-1776888000@harvardband.org
SUMMARY:Performance @ The Harvard Club of Boston Annual Meeting
DESCRIPTION:Hey Bandies!!! Join us this Wednesday at the Harvard Club of Boston\, where we’ll be kicking off their annnual meeting! How cool is that? \nCall time is at 5:15\, with a STRICT leaving time at 5:45. Our dress code is the full uniform (band jacket\, white button up shirt\, tie\, black pants\, black socks\, black shoes) – food will be provided! \nRSVP below with the instrument you intend to play!
URL:https://harvardband.org/events/harvard-club-annual-performance
LOCATION:Band Room\, 74 Mt. Auburn St\, Cambridge\, MA\, 02138\, United States
CATEGORIES:Band,CFA
ATTACH;FMTTYPE=image/png:https://harvardband.org/wp-content/uploads/2026/04/blank-marker.png
END:VEVENT
BEGIN:VEVENT
DTSTART;TZID=America/New_York:20260423T190000
DTEND;TZID=America/New_York:20260423T210000
DTSTAMP:20260421T001215
CREATED:20260129T034715Z
LAST-MODIFIED:20260204T142713Z
UID:10000167-1776970800-1776978000@harvardband.org
SUMMARY:Band Rehearsal
DESCRIPTION:Harvard Band rehearsals are held every Thursday from 7:00 PM to 9:00 PM. Rehearsals typically take place at Lowell Lecture Hall\, but occasionally we’ll rehearse at the Harvard Athletics Center. Please check the VENUE section below for each weekly rehearsal location. \nBand Members\, please RSVP to each weekly rehearsal event and be sure to tell us what instrument you’ll be playing. \nHarvard Band rehearsals are open to Band Candidates\, Alums\, and Friends & Family members. Band Candidates interested in auditioning should notify one of the Band leaders upon arrival. Click Here to register as a Band Candidate\, Alum\, or Friend & Family. \n  \n: D
URL:https://harvardband.org/events/band-rehearsal-22
LOCATION:Lowell Lecture Hall\, 17 Kirkland St\, Cambridge\, MA\, 02138\, United States
CATEGORIES:Band,CFA
ATTACH;FMTTYPE=image/png:https://harvardband.org/wp-content/uploads/2024/09/Band-Rehearsal-Logo.png
END:VEVENT
BEGIN:VEVENT
DTSTART;TZID=America/New_York:20260426T091500
DTEND;TZID=America/New_York:20260426T103000
DTSTAMP:20260421T001215
CREATED:20260420T205616Z
LAST-MODIFIED:20260420T205616Z
UID:10000183-1777194900-1777199400@harvardband.org
SUMMARY:Welcome Tent Playing - Visitas
DESCRIPTION:Come on\, Band! Let’s welcome all of our prospective bandies to Harvard at Visitas! \nWe’ll be meeting at the Band Room at 9:15 and playing until 10:30. Breakfast will be provided afterwards for those who participate! \nPlease RSVP below with the instrument you plan on playing.
URL:https://harvardband.org/events/welcome-tent-playing-visitas
LOCATION:Band Room\, 74 Mt. Auburn St\, Cambridge\, MA\, 02138\, United States
CATEGORIES:Band,CFA
ATTACH;FMTTYPE=image/jpeg:https://harvardband.org/wp-content/uploads/2025/04/Crimson-Crinkle.jpg
END:VEVENT
BEGIN:VEVENT
DTSTART;TZID=America/New_York:20260426T113000
DTEND;TZID=America/New_York:20260426T133000
DTSTAMP:20260421T001215
CREATED:20260420T210354Z
LAST-MODIFIED:20260420T210354Z
UID:10000184-1777203000-1777210200@harvardband.org
SUMMARY:Around The Yard Performances - Visitas
DESCRIPTION:Let’s explore the Yard together\, Bandies! We’ll be playing in the Science Center Plaza\, Annenberg\, and other locations around Harvard Yard to show future bandies with the joy we spread everywhere! \nFor those who didn’t play  at the welcome tent\, meet at the Band Room at 11:30 to join us on our excursion! \nPlease RSVP Below with the intrument you intend to play.
URL:https://harvardband.org/events/around-the-yard-performances-visitas
LOCATION:Band Room\, 74 Mt. Auburn St\, Cambridge\, MA\, 02138\, United States
CATEGORIES:Band,CFA
ATTACH;FMTTYPE=image/jpeg:https://harvardband.org/wp-content/uploads/2025/04/Crimson-Crinkle.jpg
END:VEVENT
BEGIN:VEVENT
DTSTART;TZID=America/New_York:20260426T163000
DTEND;TZID=America/New_York:20260426T173000
DTSTAMP:20260421T001215
CREATED:20260420T210850Z
LAST-MODIFIED:20260420T210850Z
UID:10000185-1777221000-1777224600@harvardband.org
SUMMARY:Mock Marchdown - Visitas
DESCRIPTION:Hey Band! For our final Visitas performance\, we’ll be doing a mock marchdown to the John Harvard statue! What fun! \nJoin us in the Band Room at 4:30 to close out our Visitas playing with a BANG! Not to mention score some exclusive band rewards for your attendance… \nPlease RSVP below with the instrument you intend to play.
URL:https://harvardband.org/events/mock-marchdown-visitas
LOCATION:Band Room\, 74 Mt. Auburn St\, Cambridge\, MA\, 02138\, United States
CATEGORIES:Band,CFA
ATTACH;FMTTYPE=image/jpeg:https://harvardband.org/wp-content/uploads/2025/04/Crimson-Crinkle.jpg
END:VEVENT
END:VCALENDAR